BEGIN:VCALENDAR
VERSION:2.0
PRODID:-//República da Música - ECPv6.10.1.1//NONSGML v1.0//EN
CALSCALE:GREGORIAN
METHOD:PUBLISH
X-WR-CALNAME:República da Música
X-ORIGINAL-URL:https://republicadamusica.pt/?lang=en
X-WR-CALDESC:Events for República da Música
REFRESH-INTERVAL;VALUE=DURATION:PT1H
X-Robots-Tag:noindex
X-PUBLISHED-TTL:PT1H
BEGIN:VTIMEZONE
TZID:UTC
BEGIN:STANDARD
TZOFFSETFROM:+0000
TZOFFSETTO:+0000
TZNAME:UTC
DTSTART:20260101T000000
END:STANDARD
END:VTIMEZONE
BEGIN:VEVENT
DTSTART;TZID=UTC:20260308T200000
DTEND;TZID=UTC:20260308T200000
DTSTAMP:20260421T230619
CREATED:20251112T100207Z
LAST-MODIFIED:20251114T113458Z
UID:872-1773000000-1773000000@republicadamusica.pt
SUMMARY:Dea Matrona
DESCRIPTION:After a highly acclaimed show in Lisbon last October\, the Irish duo Dea Matrona return for a headline concert on March 8th at República da Música\, Lisbon. \nThe concert marks the official start of the duo’s new European tour\, which will take them through cities such as Madrid\, Barcelona\, Paris\, Rotterdam\, Brussels\, Hamburg\, Berlin\, Copenhagen\, Stockholm\, and Oslo. Lisbon will thus be the first stop of this European journey — and this time\, the stage will be entirely theirs.
URL:https://republicadamusica.pt/evento/dea-matrona/?lang=en
CATEGORIES:Room two
ATTACH;FMTTYPE=image/webp:https://republicadamusica.pt/wp-content/uploads/2025/11/DeaMatrona-Evento-Main-2026.webp
END:VEVENT
BEGIN:VEVENT
DTSTART;TZID=UTC:20260329T200000
DTEND;TZID=UTC:20260329T200000
DTSTAMP:20260421T230619
CREATED:20251112T095634Z
LAST-MODIFIED:20251112T095638Z
UID:866-1774814400-1774814400@republicadamusica.pt
SUMMARY:ZEKE
DESCRIPTION:Hell Xis Agency is proud to present the debut of ZEKE in Portugal.Formed in Seattle in 1993\, the band delivers an explosive blend of Punk\, Speed\, Hard\, and everything that can end with “Rock\,” culminating in pure\, unfiltered Rock’n’Roll — wild\, fast-paced riffs\, thunderous drums\, and 100% adrenaline-fueled attitude.Led by Marky Felchtone (vocals and guitar)\, ZEKE have shared stages around the world with giants such as Motörhead\, Supersuckers\, and The Dwarves\, establishing themselves as a true reference within the genre\, with iconic albums like Kicked in the Teeth\, Death Alley\, and Till the Livin’ End. \nThe concert will take place on March 29th\, 2026\, at República da Música in Lisbon.
URL:https://republicadamusica.pt/evento/zeke/?lang=en
CATEGORIES:Room one
ATTACH;FMTTYPE=image/jpeg:https://republicadamusica.pt/wp-content/uploads/2025/11/zeke-29-marco-2026-republica-da-musica-lisboa-bilhete-electronico.jpg
END:VEVENT
BEGIN:VEVENT
DTSTART;TZID=UTC:20260402T190000
DTEND;TZID=UTC:20260402T190000
DTSTAMP:20260421T230619
CREATED:20260311T185947Z
LAST-MODIFIED:20260311T185955Z
UID:1009-1775156400-1775156400@republicadamusica.pt
SUMMARY:Animal Jazz
DESCRIPTION:For the first time in Lisbon! \nThis spring\, ANIMAL JAZZ will present a brand-new and unique program — all the band’s greatest songs will be performed for the first time in a special voice\, electric piano and cello format. \nANIMAL JAZZ is a cult rock band from St. Petersburg\, known for songs that became anthems for an entire generation — “Tri Poloski”\, “Chuvstva”\, “Shag Vdoh” and “Dyshi”. \nToday\, their concerts are attended by whole families\, and the voice of Alexander Krasovitsky has become one of the most distinctive and recognizable voices of our time. \nDon’t miss this unique ANIMAL JAZZ concert with cello in Lisbon.
URL:https://republicadamusica.pt/evento/animal-jazz/?lang=en
CATEGORIES:Room two
ATTACH;FMTTYPE=image/png:https://republicadamusica.pt/wp-content/uploads/2026/03/IMG_8984.png
END:VEVENT
BEGIN:VEVENT
DTSTART;TZID=UTC:20260411T210000
DTEND;TZID=UTC:20260411T210000
DTSTAMP:20260421T230619
CREATED:20260318T180245Z
LAST-MODIFIED:20260318T180250Z
UID:1027-1775941200-1775941200@republicadamusica.pt
SUMMARY:Iron Beast
DESCRIPTION:IRON BEAST celebrate a decade of activity dedicated to honoring the legacy of Iron Maiden. Over ten years on the road\, the band has brought to the stage the energy\, precision\, and spirit that have defined generations of fans\, building a journey marked by memorable shows and a very special connection with their audience. \nTo kick off these celebrations\, IRON BEAST will present a special concert at República da Música on April 11 — the first of three commemorative shows marking the band’s 10-year milestone. \nThe night will also feature a special appearance by ALLTALLICA\, a renowned tribute to the legendary Metallica\, who will open the show with a powerful dose of heavy metal\, setting the tone for an intense night dedicated to the genre’s greatest classics. \nAn unmissable celebration for all heavy metal lovers and for fans of the two bands that have shaped – and continue to shape – its history.
URL:https://republicadamusica.pt/evento/iron-beast/?lang=en
CATEGORIES:Room two
ATTACH;FMTTYPE=image/jpeg:https://republicadamusica.pt/wp-content/uploads/2026/03/Iron-Beast.jpg
END:VEVENT
BEGIN:VEVENT
DTSTART;TZID=UTC:20260411T220000
DTEND;TZID=UTC:20260411T220000
DTSTAMP:20260421T230619
CREATED:20260311T185100Z
LAST-MODIFIED:20260311T185556Z
UID:1003-1775944800-1775944800@republicadamusica.pt
SUMMARY:Lila Iké
DESCRIPTION:Lila Iké finally makes her debut in Portugal\, following a remarkable appearance at the 2026 Grammy Awards\, where she was nominated for Album of the Year. \nThe night also marks Jah Version’s return to Lisbon\, on a special date celebrating the release of his debut album. \nThe entire celebration will be amplified by Atlantic Sound.
URL:https://republicadamusica.pt/evento/lila-ike/?lang=en
CATEGORIES:Room one
ATTACH;FMTTYPE=image/jpeg:https://republicadamusica.pt/wp-content/uploads/2026/03/Lila-Ike.jpg
END:VEVENT
BEGIN:VEVENT
DTSTART;TZID=UTC:20260502T200000
DTEND;TZID=UTC:20260502T200000
DTSTAMP:20260421T230619
CREATED:20260224T093133Z
LAST-MODIFIED:20260224T093138Z
UID:984-1777752000-1777752000@republicadamusica.pt
SUMMARY:VOPLI VIDOPLYASOVA
DESCRIPTION:Oleg Skrypka and Vopli Vidopliassova — 40 years on stage! \nVV is music that has accompanied Ukrainians for several generations. From the Kyiv underground of the 80s to global stages\, their journey has become a vital part of Ukraine’s cultural history. They combined rock\, punk\, and ethno with a special charisma that shaped a unique Ukrainian sound. \nThe program features the best hits from all years: “Tantsi”\, “Vesna”\, “Kraina Mriy”\, “Liubov”\, and other songs that have long since become classics. Don’t miss this unique concert that will become a part of history!
URL:https://republicadamusica.pt/evento/vopli-vidoplyasova/?lang=en
CATEGORIES:Room one
ATTACH;FMTTYPE=image/jpeg:https://republicadamusica.pt/wp-content/uploads/2026/02/Lisbon-2-1080-×-1080.jpg
END:VEVENT
BEGIN:VEVENT
DTSTART;TZID=UTC:20260509T200000
DTEND;TZID=UTC:20260509T200000
DTSTAMP:20260421T230619
CREATED:20251203T094641Z
LAST-MODIFIED:20251203T094644Z
UID:915-1778356800-1778356800@republicadamusica.pt
SUMMARY:NURCRY + TARANTULA + LIVING TALES
DESCRIPTION:A night of pure Heavy Metal in Lisbon with three great bands on stage: local act Living Tales opens the show\, followed by the Spaniards Nurcry presenting IV\, their latest album\, and closing with the legendary Tarantula as special guests.
URL:https://republicadamusica.pt/evento/nurcry-tarantula-living-tales/?lang=en
CATEGORIES:Room two
ATTACH;FMTTYPE=image/jpeg:https://republicadamusica.pt/wp-content/uploads/2025/12/Cartel_NURCRY_2025_ticketera_1000x1000px.jpg
END:VEVENT
BEGIN:VEVENT
DTSTART;TZID=UTC:20260509T203000
DTEND;TZID=UTC:20260509T203000
DTSTAMP:20260421T230619
CREATED:20260203T111230Z
LAST-MODIFIED:20260203T111234Z
UID:962-1778358600-1778358600@republicadamusica.pt
SUMMARY:REGGAE LIVES COM THE ABYSSINIANS + BIG YOUTH
DESCRIPTION:The 5th edition of Reggae Lives returns with two living legends of Jamaican roots reggae: The Abyssinians and Big Youth! \nThe Abyssinians are a Jamaican roots reggae group\, famous for their vocal harmonies and for promoting the Rastafari movement in their lyrics. The vocal trio was originally formed in 1968 by Bernard Collins and Donald Manning\, with Lynford Manning joining them later. \nThe Abyssinians’ music is a true celebration of Rastafari\, with “Satta Massagana” standing as one of reggae’s greatest anthems. Along with “Declaration of Rights\,” “Forward unto Zion\,” “African Race\,” and “The Good Lord\,” it is considered a major reggae classic. \nBig Youth is the stage name of Manley Augustus Buchanan (sometimes called Jah Youth)\, born in Trenchtown\, Kingston. He is a Jamaican DJ\, widely known for his work during the 1970s. At that time\, as he once remarked\, “DJs were the closest to the people because there was no institutional control over sound systems.” \nHe was one of the first reggae artists to profess his Rastafarian beliefs through music and is best known for his work in the early to mid-1970s\, when he released the motorcycle-inspired single “Ace Ninety Skank.” Described as a “stylistic and artistic innovator of the highest order” by the Encyclopedia of Popular Music and as an “important pioneer” by the Encyclopedia of Rock\, Big Youth’s style quickly made him the most popular artist in Jamaica\, enjoying fame and sales that rivaled even those of his contemporary Bob Marley. \nIn the 2000s\, Big Youth teamed up with modern dub producer Twilight Circus to record two notable singles\, “Daniel in the Lions’ Den” and “What We Need Is Love\,” in a style that harkens back to the sound of his classic 1970s work. Today\, he is regarded as an elder within the reggae and Rastafari communities and still records and performs music in his spare time. \nThe Lisbon concert will be yet another great celebration of roots reggae—unmissable moments in the company of The Abyssinians and Big Youth! Doors open at 8:30 p.m.\, and the concert starts at 9:30 p.m.
URL:https://republicadamusica.pt/evento/reggae-lives-com-the-abyssinians-big-youth/?lang=en
CATEGORIES:Room one
ATTACH;FMTTYPE=image/jpeg:https://republicadamusica.pt/wp-content/uploads/2026/02/161de65a-d241-45f3-9df1-3cf4629e8052.jpg
END:VEVENT
BEGIN:VEVENT
DTSTART;TZID=UTC:20260515T210000
DTEND;TZID=UTC:20260515T210000
DTSTAMP:20260421T230619
CREATED:20250730T135050Z
LAST-MODIFIED:20250730T140708Z
UID:714-1778878800-1778878800@republicadamusica.pt
SUMMARY:The Aristocrats
DESCRIPTION:The Aristocrats return to Lisbon and Porto in May 2026. The aces Guthrie Govan\, Bryan Beller\, and Marco Minnemann will bring the pathological “DUCK” to life on stage. \nAfter 12 weeks of a mind-blowing journey through Australia\, Asia\, and North America\, a debut performance on “Cruise to the Edge\,” and an upcoming South American tour this August\, the world’s loudest instrumental rock/fusion trio is heading back to Europe in Spring 2026 to complete the DUCK World Tour. Guthrie Govan\, Bryan Beller\, and Marco Minnemann will bring their musical virtuosity and signature absurdity to stages across the Old Continent\, performing a significant portion of their new conceptual album “DUCK\,” along with classics from their five-album catalog. \n\n\n\n\n\n\n \n\n\n\n\n\n\n\n\nPerguntar ao ChatGPT
URL:https://republicadamusica.pt/evento/the-aristocrats/?lang=en
CATEGORIES:Room one
ATTACH;FMTTYPE=image/jpeg:https://republicadamusica.pt/wp-content/uploads/2025/07/cartaz135454_grande-1.jpg
END:VEVENT
BEGIN:VEVENT
DTSTART;TZID=UTC:20260516T213000
DTEND;TZID=UTC:20260516T213000
DTSTAMP:20260421T230619
CREATED:20260203T111842Z
LAST-MODIFIED:20260203T111846Z
UID:968-1778967000-1778967000@republicadamusica.pt
SUMMARY:TERRAKOTA
DESCRIPTION:It’s true\, I swear! \nTerrakota return to the stage in 2026. \nThe Lisbon-based band that turns the world map upside down at every concert and carries audiences aboard a high-speed transcontinental train is back — for pleasure\, for nostalgia\, and for the urgent need to feel music as it should be felt: live\, in community\, unfiltered. \nThe journey continues from Africa\, both point of departure and return\, following the routes of the African diaspora and absorbing the extraordinary musical diversity these crossings have sown across the world. From the intersections of continents\, cultures\, and rhythms emerges\, once again\, the sonic melting pot that has always defined Terrakota. \nOver 17 years of an intense career\, they have released 6 albums\, played around 700 concerts\, and covered thousands of kilometers — landscapes\, embraces\, and unforgettable moments of communion. The energy returned by the audience at every stage has shaped the band’s spirit: a space where the boundary between those who play and those who dance dissolves into a free\, joyful\, collective vibration. \nIn a world increasingly marked by artificial barriers — social\, political\, and economic — Terrakota return to dance and sing against the egocentric madness of the present\, for the freedom of peoples and of all living things\, contributing in their own way to reinventing a more natural\, conscious\, and humane way of BEING. \nIn 2026\, the train departs once more. \nAll aboard.
URL:https://republicadamusica.pt/evento/terrakota/?lang=en
CATEGORIES:Room one
ATTACH;FMTTYPE=image/jpeg:https://republicadamusica.pt/wp-content/uploads/2026/02/faa77bfb-07c8-4efa-aec0-9dda90b2a335.jpg
END:VEVENT
BEGIN:VEVENT
DTSTART;TZID=UTC:20260530T193000
DTEND;TZID=UTC:20260530T193000
DTSTAMP:20260421T230619
CREATED:20260318T170608Z
LAST-MODIFIED:20260318T170612Z
UID:1021-1780169400-1780169400@republicadamusica.pt
SUMMARY:Gio Pika
DESCRIPTION:After conquering millions of listeners and becoming one of the most distinctive voices in the new urban music scene of Eastern Europe\, Gio Pika finally arrives in Lisbon for an exclusive concert. \nWith a unique aesthetic that blends melodic rap\, modern chanson and dark atmospheres\, Gio Pika has become an international phenomenon\, with tracks that have accumulated tens of millions of streams and a growing fan base across Europe. \nOn May 30\, 2026\, the artist will take the stage at República da Música for an intense and immersive performance\, in a special night that marks his first concert in Portugal. \nA rare opportunity to experience live one of the most unique artists of the new generation of urban music.
URL:https://republicadamusica.pt/evento/gio-pika/?lang=en
CATEGORIES:Room one
ATTACH;FMTTYPE=image/jpeg:https://republicadamusica.pt/wp-content/uploads/2026/03/w550.jpg
END:VEVENT
BEGIN:VEVENT
DTSTART;TZID=UTC:20260626T203000
DTEND;TZID=UTC:20260626T203000
DTSTAMP:20260421T230619
CREATED:20260421T171542Z
LAST-MODIFIED:20260421T171547Z
UID:1040-1782505800-1782505800@republicadamusica.pt
SUMMARY:Groundation
DESCRIPTION:Formed in 1998\, GROUNDATION is one of the world’s most respected reggae bands. With landmark albums such as Young Tree\, Each One Teach One and the iconic Hebron Gate\, the Californian group established a unique roots reggae sound infused with jazz influences\, earning international acclaim. After reforming in 2018 around founder and vocalist Harrison Stafford\, GROUNDATION entered a powerful new chapter\, surrounded by outstanding musicians trained at Sonoma State University. The band remains faithful to its roots while delivering intense\, sophisticated and deeply human music. With over two decades of career and ten studio albums\, GROUNDATION returns with Candle Burning\, its 11th studio album\, recorded 100% analog and acclaimed for its musical depth and sound quality.
URL:https://republicadamusica.pt/evento/groundation-2/?lang=en
CATEGORIES:Room one
ATTACH;FMTTYPE=image/png:https://republicadamusica.pt/wp-content/uploads/2026/04/1637_1_1766417559.png
END:VEVENT
BEGIN:VEVENT
DTSTART;TZID=UTC:20260626T213000
DTEND;TZID=UTC:20260626T213000
DTSTAMP:20260421T230619
CREATED:20260311T184031Z
LAST-MODIFIED:20260311T184036Z
UID:997-1782509400-1782509400@republicadamusica.pt
SUMMARY:Groundation
DESCRIPTION:Formed in 1998\, GROUNDATION is one of the world’s most respected reggae bands. With landmark albums such as Young Tree\, Each One Teach One and the iconic Hebron Gate\, the Californian group established a unique roots reggae sound infused with jazz influences\, earning international acclaim. After reforming in 2018 around founder and vocalist Harrison Stafford\, GROUNDATION entered a powerful new chapter\, surrounded by outstanding musicians trained at Sonoma State University. The band remains faithful to its roots while delivering intense\, sophisticated and deeply human music. With over two decades of career and ten studio albums\, GROUNDATION returns with Candle Burning\, its 11th studio album\, recorded 100% analog and acclaimed for its musical depth and sound quality.
URL:https://republicadamusica.pt/evento/groundation/?lang=en
CATEGORIES:Room one
ATTACH;FMTTYPE=image/avif:https://republicadamusica.pt/wp-content/uploads/2026/03/Lisboa-shotgun_x1ycbh.avif
END:VEVENT
BEGIN:VEVENT
DTSTART;TZID=UTC:20260711T203000
DTEND;TZID=UTC:20260711T203000
DTSTAMP:20260421T230619
CREATED:20260311T144802Z
LAST-MODIFIED:20260311T144807Z
UID:991-1783801800-1783801800@republicadamusica.pt
SUMMARY:Sunn O)))
DESCRIPTION:From their humble roots as a tribute to Earth — symbolically reflected in a name that points both to the Seattle band and the legendary amplifier brand — the entity formed by Greg Anderson and Stephen O’Malley has reached a sphere of influence that far transcends those boundaries drawn at the end of the last century. From the doom genealogy reinvented in earlier bands such as Burning Witch or Goatsnake\, to the altar erected to Earth 2: Special Low-Frequency Version in Grimmrobe Demos and ØØ VOID\, Anderson and O’Malley put forward a maxim — “Maximum Volume Yields Maximum Results” — that has since been continuously extrapolated into new dimensions\, dragging along in its riffing a whole horde of followers from the most diverse backgrounds and sensibilities: metalheads\, noiseniks\, scholars of experimental music\, potheads in league with the dark side\, and rootless wanderers generally drawn to music of transcendence and hypnosis. \nApproaching three decades of activity and having counted a diverse cast of collaborators over that time — from the regular presence of Attila Csihar (Mayhem) and Oren Ambarchi to more occasional contributions from figures such as Julian Cope\, Eyvind Kang\, John Wiese or Hildur Guðnadóttir — Sunn O))) have given life to a kind of theatre. The robes\, the extreme volume and the curtains of smoke on stage are nothing less than the theatrical embodiment of an entire occult folklore — forged in their own language with Flight of the Behemoth in 2002. Into this language flow currents of metal\, drone\, noise\, contemporary composition and a constant minimal/maximal duality within a slow-motion stream that regenerates itself with every new incursion. From the feedback-forged rituals and invocations of the White diptych\, to the suspended icy fury of Scandinavian black metal in Black One\, to the almost orchestral arrangements of Monoliths & Dimensions and its later\, stripped-down and more metal-driven reaffirmation with Kannon\, through to the most recent statement of all this — clearly expressed in the title — in Life Metal\, not to mention symbiotic collaborative records with Boris\, Ulver and Scott Walker — R.I.P. — Sunn O))) continue to rewrite their own nature at the deliberate pace that belongs to them by right. \nNow they open a new chapter with an appropriately self-titled record on the legendary Sub Pop — the very label that released Earth 2 back in 1993\, as if completing a cycle — where\, for the first time\, all the music was created solely by the duo of Anderson and O’Malley\, reportedly in a relaxed environment free from pressure. As if rediscovering their Essence. A key word for a sound that is as primordial in its origins as it is infinite in its ambition.
URL:https://republicadamusica.pt/evento/sunn-o/?lang=en
CATEGORIES:Room one
ATTACH;FMTTYPE=image/png:https://republicadamusica.pt/wp-content/uploads/2026/03/cartaz149433_grande.png
END:VEVENT
BEGIN:VEVENT
DTSTART;TZID=UTC:20260830T200000
DTEND;TZID=UTC:20260830T200000
DTSTAMP:20260421T230619
CREATED:20260421T165120Z
LAST-MODIFIED:20260421T165124Z
UID:1034-1788120000-1788120000@republicadamusica.pt
SUMMARY:Tormentor
DESCRIPTION:Hailing from the Hungarian city of Budapest\, Tormentor are widely regarded as true pioneers of classic black metal and one of the most respected bands in the genre. Founded in 1985\, they quickly gained recognition with the demos The Seventh Day of Doom (1987) and Anno Domini (1989)\, works that became landmarks of European black metal. In 2000\, they released the album Recipe Ferrum!\, maintaining the dark and intense essence that has always defined their sound. At the core of the band is vocalist and founding member Attila Csihar\, an iconic figure known for his unique voice and magnetic stage presence. Also recognized as the voice of the Norwegian band Mayhem\, Csihar brings to Tormentor a powerful vocal style\, blending piercing high tones and harsh raspiness with a theatrical and shadowy aesthetic that makes each performance a memorable experience. This exclusive concert in Portugal offers fans a rare opportunity to witness a performance rich in history\, intense riffs\, and dense atmospheres that have shaped generations of black metal followers. \nOpening the night will be Filii Nigrantium Infernalium\, active since the early 1990s\, delivering a distinctive blend of black and thrash metal. Exploring dark and introspective themes\, the band embraces a raw and visceral aesthetic. Led by Belathauzer\, vocalist and guitarist and the creative force behind the group since its formation in 1992\, Filii Nigrantium Infernalium have built a solid and diverse discography\, with albums such as Fellatrix Discordia Pantokrator (2005)\, Pornokrates: Deo Gratias (2013)\, Hostia (2018)\, and the most recent Pérfida Contracção do Aço (2024). Each release reinforces the band’s unique musical identity\, establishing them as a key reference within the Portuguese underground metal scene. Known for their fierce intensity on stage\, Filii Nigrantium Infernalium promise a powerful opening set\, delivering a brutal and unforgettable experience for the audience.
URL:https://republicadamusica.pt/evento/tormentor/?lang=en
CATEGORIES:Room one
ATTACH;FMTTYPE=image/jpeg:https://republicadamusica.pt/wp-content/uploads/2026/04/cartaz.jpg
END:VEVENT
BEGIN:VEVENT
DTSTART;TZID=UTC:20260909T193000
DTEND;TZID=UTC:20260909T193000
DTSTAMP:20260421T230619
CREATED:20260421T173820Z
LAST-MODIFIED:20260421T173824Z
UID:1046-1788982200-1788982200@republicadamusica.pt
SUMMARY:Ruggero
DESCRIPTION:Ruggero performs at República da Música in Lisbon on September 9th as part of his “La Dolce Vita Tour”. The Argentine artist delivers an intense and emotional show\, blending contemporary pop with Latin influences\, in a performance designed to create a strong connection with the audience.
URL:https://republicadamusica.pt/evento/ruggero/?lang=en
CATEGORIES:Room two
ATTACH;FMTTYPE=image/webp:https://republicadamusica.pt/wp-content/uploads/2026/04/24295127.webp
END:VEVENT
BEGIN:VEVENT
DTSTART;TZID=UTC:20260923T203000
DTEND;TZID=UTC:20260923T203000
DTSTAMP:20260421T230619
CREATED:20251119T113655Z
LAST-MODIFIED:20251119T113659Z
UID:897-1790195400-1790195400@republicadamusica.pt
SUMMARY:Einar Solberg
DESCRIPTION:Einar Solberg\, vocalist and creative mastermind of Leprous\, returns to Portugal for two very special shows celebrating the release of his highly anticipated second solo album. Following the critically acclaimed 16 (2023)\, Einar now opens a new artistic chapter defined by a more cinematic\, emotional\, and expansive sound. \nHis new single “Stella Mortua”\, recorded with the renowned Norwegian Radio Orchestra\, offers a powerful preview: a grand fusion of progressive metal and orchestral drama. The track features contributions from Keli Guðjónsson (Agent Fresco) and Chris Baum (Bent Knee)\, and was mixed/produced by Adam Noble and David Castillo. \nIn September\, Einar brings this new sonic journey to Portugal for two intimate and unmissable performances: \n22 September – Mouco\, Porto\n23 September – República da Música\, Lisbon \nA rare chance to experience the unique vision of one of progressive metal’s most distinctive and influential voices.
URL:https://republicadamusica.pt/evento/einar-solberg/?lang=en
CATEGORIES:Room one
ATTACH;FMTTYPE=image/jpeg:https://republicadamusica.pt/wp-content/uploads/2025/11/Ticketline_1024x768px-1.jpg
END:VEVENT
BEGIN:VEVENT
DTSTART;TZID=UTC:20260926T210000
DTEND;TZID=UTC:20260926T210000
DTSTAMP:20260421T230619
CREATED:20260219T094248Z
LAST-MODIFIED:20260219T094422Z
UID:976-1790456400-1790456400@republicadamusica.pt
SUMMARY:Fanna-Fi-Allah Sufi Qawwali
DESCRIPTION:Experience the Timeless Tradition of Sufi Qawwali – Live in Concert. \nNow in their 26th year of international touring\, Fanna-Fi-Allah remains one of the foremost traditional Qawwali ensembles in the world today. With thousands of performances across 50+ countries\, they carry the living spirit of Sufi shrine music to global audiences\, oﬀering a rare and powerful immersion into this devotional art form. Led by Tahir Qawwal and supported by a masterful ensemble of tabla\, harmonium\, and choral vocals\, the group stays rooted in the classical Qawwali tradition—without fusion\, electronics\, or pop crossover. \nEach performance is a vibrant expression of spiritual passion\, featuring the poetry of Sufi saints such as Amir Khusrau and Baba Farid\, delivered through the powerful rhythms of clapping\, soaring chorus lines\, and deep\, trance-inducing cycles. The atmosphere includes whirling Sufi dancing and a communal\, ecstatic energy that transcends language or belief. Though born in the Sufi Islamic tradition\, this music invites all people—regardless of background—into a shared space of unity and divine love. \nFor those new to Qawwali\, this is a beautiful opportunity to witness the tradition as it has been carried for centuries. And for longtime listeners\, it’s a continuation of Fanna-Fi-Allah’s dedication to preserving and sharing this sacred music with reverence and vigor. \nJoin us for an unforgettable evening of music that uplifts the heart and honors the timeless message of the Sufis.
URL:https://republicadamusica.pt/evento/fanna-fi-allah-sufi-qawwali/?lang=en
CATEGORIES:Room one
ATTACH;FMTTYPE=image/avif:https://republicadamusica.pt/wp-content/uploads/2026/02/FFA_horinzontal_header_pic_2026_fy433d.avif
END:VEVENT
BEGIN:VEVENT
DTSTART;TZID=UTC:20261018T200000
DTEND;TZID=UTC:20261018T200000
DTSTAMP:20260421T230619
CREATED:20251128T112344Z
LAST-MODIFIED:20251128T112348Z
UID:909-1792353600-1792353600@republicadamusica.pt
SUMMARY:Steve n' Seagulls
DESCRIPTION:Get ready for a unique night: Steve ’n’ Seagulls\, for the first time ever in Portugal\, hits República da Música on October 18\, 2026 – bringing their one-of-a-kind bluegrass-rock show you won’t forget! \nHailing from Finland\, Steve ’n’ Seagulls went viral in 2014 with their bluegrass cover of AC/DC’s “Thunderstruck” – a rendition that has already garnered hundreds of millions of views. \nWith banjo\, mandolin\, upright bass\, accordion and other folk-inspired instrumentation\, plus raw energy and wild stage presence – they turn rock and metal classics into vibrant\, gritty\, unforgettable bluegrass-rock performances. \nExpect reimagined rock anthems\, a good dose of humor\, high energy and an audience-friendly\, feel-good vibe. Whether you love metal\, folk-twisted rock or just great live music\, this show will surprise you. \n18 October 2026 – República da Música\, Lisbon\nDon’t miss this chance to be part of what promises to be one of the most memorable nights of the year.
URL:https://republicadamusica.pt/evento/steve-n-seagulls/?lang=en
CATEGORIES:Room two
ATTACH;FMTTYPE=image/jpeg:https://republicadamusica.pt/wp-content/uploads/2025/11/Ticketline_1024x768px-2.jpg
END:VEVENT
BEGIN:VEVENT
DTSTART;TZID=UTC:20261022T200000
DTEND;TZID=UTC:20261022T200000
DTSTAMP:20260421T230619
CREATED:20260312T091929Z
LAST-MODIFIED:20260312T091933Z
UID:1015-1792699200-1792699200@republicadamusica.pt
SUMMARY:Myrath
DESCRIPTION:Tunisian progressive metal pioneers Myrath return to Lisbon with their “Wilderness of Mirrors – Second Strike” tour\, delivering a powerful fusion of progressive metal and Middle Eastern influences. Known for their distinctive cinematic sound\, Myrath craft immersive sonic landscapes where heavy riffs blend seamlessly with oriental melodies and striking visual elements. \nWith a solid international career and appearances at major European festivals\, the band will take the stage at República da Música for an intense and theatrical performance\, combining technical mastery\, emotion\, and exotic atmospheres into one unforgettable live experience. A must-see show for progressive metal fans and anyone seeking a truly unique concert night.
URL:https://republicadamusica.pt/evento/myrath/?lang=en
CATEGORIES:Room one
ATTACH;FMTTYPE=image/jpeg:https://republicadamusica.pt/wp-content/uploads/2026/03/Ticketline_1080x1350px.jpg
END:VEVENT
END:VCALENDAR