BEGIN:VCALENDAR
VERSION:2.0
PRODID:-//República da Música - ECPv6.10.1.1//NONSGML v1.0//EN
CALSCALE:GREGORIAN
METHOD:PUBLISH
X-WR-CALNAME:República da Música
X-ORIGINAL-URL:https://republicadamusica.pt
X-WR-CALDESC:Events for República da Música
REFRESH-INTERVAL;VALUE=DURATION:PT1H
X-Robots-Tag:noindex
X-PUBLISHED-TTL:PT1H
BEGIN:VTIMEZONE
TZID:UTC
BEGIN:STANDARD
TZOFFSETFROM:+0000
TZOFFSETTO:+0000
TZNAME:UTC
DTSTART:20260101T000000
END:STANDARD
END:VTIMEZONE
BEGIN:VEVENT
DTSTART;TZID=UTC:20260207T220000
DTEND;TZID=UTC:20260207T220000
DTSTAMP:20260421T122049
CREATED:20251003T112029Z
LAST-MODIFIED:20251003T112037Z
UID:848-1770501600-1770501600@republicadamusica.pt
SUMMARY:Disney / Nick Party - Childhoodnites
DESCRIPTION:Estás pronto para reviver a velha era do Disney Channel & Nickelodeon?Vem viver o melhor dos dois mundos\, uma festa inesquecível misturada com um espetáculo que vai desbloquear memórias antigas. Depois do enorme sucesso pela Europa\, a Childhoodnites Events traz agora a noite mais nostálgica a Lisboa! \nUma série de momentos para cantar e dançar vai despertar o teu wildcat interior e deixar-te sem voz. Talvez sejas a próxima “worldwide girl” dos Big Time Rush! Ou o próximo Troy Bolton! Seja o que for que esta noite traga\, podes apostar que vais freak the freak out. \nOs nossos melhores DJs garantem-te a melhor experiência de festa\, acompanhada de memórias inesquecíveis! Está na hora de descobrires um novo lado da diversão… Vemo-nos lá\, wildcats!
URL:https://republicadamusica.pt/evento/disney-nick-party-childhoodnites/
CATEGORIES:Sala 1
ATTACH;FMTTYPE=image/png:https://republicadamusica.pt/wp-content/uploads/2025/10/image00001.png
END:VEVENT
END:VCALENDAR