BEGIN:VCALENDAR
VERSION:2.0
PRODID:-//República da Música - ECPv6.10.1.1//NONSGML v1.0//EN
CALSCALE:GREGORIAN
METHOD:PUBLISH
X-WR-CALNAME:República da Música
X-ORIGINAL-URL:https://republicadamusica.pt
X-WR-CALDESC:Events for República da Música
REFRESH-INTERVAL;VALUE=DURATION:PT1H
X-Robots-Tag:noindex
X-PUBLISHED-TTL:PT1H
BEGIN:VTIMEZONE
TZID:UTC
BEGIN:STANDARD
TZOFFSETFROM:+0000
TZOFFSETTO:+0000
TZNAME:UTC
DTSTART:20250101T000000
END:STANDARD
END:VTIMEZONE
BEGIN:VEVENT
DTSTART;TZID=UTC:20251206T213000
DTEND;TZID=UTC:20251206T213000
DTSTAMP:20260425T184252
CREATED:20250828T182352Z
LAST-MODIFIED:20250828T182359Z
UID:813-1765056600-1765056600@republicadamusica.pt
SUMMARY:Biga*Ranx - Lisboa
DESCRIPTION:Verdadeiro pioneiro do vapor-dub\, Biga*Ranx — MC\, produtor e artista visual — conquistou discos de ouro e platina com hinos como Liquid Sunshine\, My Face e a imperdível Petite Marie (Fanzine Remix).\nDepois de incendiar palcos por todo o mundo\, Biga*Ranx regressa em 2025 com Rainshine\, um novo álbum repleto de colaborações (Pupajim\, Chaton\, Atili\, JAEL)\, que o levarão a uma intensa digressão por festivais e concertos durante todo o verão.\nNo dia 6 de dezembro\, Biga*Ranx fará o seu muito aguardado regresso a Lisboa para um concerto único na República da Música\, em Alvalade.\nO warm up e a after party ficarão a cargo do coletivo e soundsystem Atlantic Sound\, acompanhados por Sr. Dubong.
URL:https://republicadamusica.pt/evento/bigaranx-lisboa/
CATEGORIES:Sala 1
ATTACH;FMTTYPE=image/avif:https://republicadamusica.pt/wp-content/uploads/2025/08/SHOTGUN-1920x1080-lisboa_mzzw9z.avif
END:VEVENT
END:VCALENDAR