BEGIN:VCALENDAR
VERSION:2.0
PRODID:-//República da Música - ECPv6.10.1.1//NONSGML v1.0//EN
CALSCALE:GREGORIAN
METHOD:PUBLISH
X-WR-CALNAME:República da Música
X-ORIGINAL-URL:https://republicadamusica.pt
X-WR-CALDESC:Events for República da Música
REFRESH-INTERVAL;VALUE=DURATION:PT1H
X-Robots-Tag:noindex
X-PUBLISHED-TTL:PT1H
BEGIN:VTIMEZONE
TZID:UTC
BEGIN:STANDARD
TZOFFSETFROM:+0000
TZOFFSETTO:+0000
TZNAME:UTC
DTSTART:20260101T000000
END:STANDARD
END:VTIMEZONE
BEGIN:VEVENT
DTSTART;TZID=UTC:20260110T203000
DTEND;TZID=UTC:20260110T203000
DTSTAMP:20260422T012139
CREATED:20250918T140540Z
LAST-MODIFIED:20251209T152141Z
UID:839-1768077000-1768077000@republicadamusica.pt
SUMMARY:The Nu Metal Resurrection
DESCRIPTION:THE NU METAL RESURRECTION [LIVE SHOW BY ROOTS®] é um espetáculo incrível com música ao vivo\, iluminação\, encenação\, imagens e narrativa que nos guiará pela história dos grandes artistas do Nü-Metal\, como Linkin Park\, Korn\, System of a Down\, Rage Against the Machine\, Limpbizkit ou Slipknot\, entre outros. \n2 horas de pura energia. 7 músicos em cena. 32 hinos que marcaram uma geração. Prepare-se para reviver a década mais crua\, intensa e selvagem do metal. \nUma viagem direta aos anos 90\, quando as guitarras gritavam mais alto do que qualquer «não» e cada música era um grito de rebeldia. Se você viveu essa época\, este show vai te emocionar. Se não\, é hora de sentir isso na pele. \nA entrada é permitida a maiores de 10 anos. Os menores de 18 anos devem estar acompanhados por um dos pais ou por tutor legal.
URL:https://republicadamusica.pt/evento/the-nu-metal-resurrection/
CATEGORIES:Sala 1
ATTACH;FMTTYPE=image/jpeg:https://republicadamusica.pt/wp-content/uploads/2025/09/IMG_2074.jpeg
END:VEVENT
BEGIN:VEVENT
DTSTART;TZID=UTC:20260121T203000
DTEND;TZID=UTC:20260121T203000
DTSTAMP:20260422T012139
CREATED:20250516T105741Z
LAST-MODIFIED:20250516T105814Z
UID:697-1769027400-1769027400@republicadamusica.pt
SUMMARY:HammerFall ao vivo em Lisboa
DESCRIPTION:HAMMERFALL REGRESSAM FINALMENTE A PORTUGAL EM 2026 \nOs lendários suecos HammerFall estão de regresso a Portugal para dois concertos imperdíveis inseridos na sua nova digressão europeia — Freedom World Crusade 2026. \nJá passaram mais de 10 anos desde a última atuação da banda no nosso país (2011 no Porto e 2007 em Lisboa)\, e a espera termina finalmente em janeiro de 2026: \n21 de Janeiro — República da Música\, Lisboa\n22 de Janeiro — Hard Club\, Porto \nEsta tour serve de suporte ao mais recente álbum da banda\, Avenge The Fallen\, e traz ao palco os grandes hinos que marcaram gerações do power metal europeu\, como Hearts on Fire\, Renegade ou Last Man Standing\, acompanhados por novos temas que consolidam ainda mais o legado da banda. \nPrepara-te para duas noites épicas de energia\, guitarras afiadas e refrões poderosos — os HammerFall estão de volta\, e mais fortes do que nunca!
URL:https://republicadamusica.pt/evento/hammerfall-ao-vivo-em-lisboa/
CATEGORIES:Sala 1
ATTACH;FMTTYPE=image/jpeg:https://republicadamusica.pt/wp-content/uploads/2025/05/Ticketline_1024x768px.jpg
END:VEVENT
BEGIN:VEVENT
DTSTART;TZID=UTC:20260123T210000
DTEND;TZID=UTC:20260123T210000
DTSTAMP:20260422T012139
CREATED:20251114T110648Z
LAST-MODIFIED:20251114T110652Z
UID:874-1769202000-1769202000@republicadamusica.pt
SUMMARY:Mike Love
DESCRIPTION:O músico Mike Love\, nascido no Havaí\, regressa à Europa com os seus novos álbuns transformadores Leaders e Teachers\, levando o seu espetáculo ao vivo poderoso e único a públicos ávidos por música com significado. Um verdadeiro inovador e revolucionário de coração\, Love nasceu na ilha de Oahu\, numa família de músicos\, e usa a música como forma de conversação e conexão desde que se lembra. As suas cativantes atuações a solo ganharam aclamação internacional\, entrelaçando loops intricados\, múltiplos instrumentos e um alcance vocal dinâmico numa experiência fascinante de banda de um só homem. Inspirando-se no reggae roots\, rock progressivo e clássico\, soul\, blues\, flamenco\, jazz e tradições clássicas\, a música de Love desafia as fronteiras dos géneros\, mantendo-se ancorada numa única missão: inspirar transformação e mudança positiva. Teachers (lançado em outubro de 2025) marca a segunda parte de uma trilogia poderosa\, seguindo Leaders (2024) e precedendo o próximo Healers. O projeto é o trabalho mais ambicioso e pessoal de Mike até hoje. “Foi a obra mais intensa em que trabalhei na minha vida”\, diz Love. “Estou feliz por ela estar a ser lançada. Neste momento\, cumpriu o que precisava de fazer por mim — agora\, espero que possa ajudar outras pessoas na sua jornada\, dando-lhes força\, coragem e cura.» Para Mike Love\, a música sempre foi mais do que entretenimento — é uma força sagrada para a cura\, a aprendizagem e o crescimento. As suas atuações convidam o público não só a ouvir\, mas também a despertar.
URL:https://republicadamusica.pt/evento/mike-love/
CATEGORIES:Sala 1
ATTACH;FMTTYPE=image/avif:https://republicadamusica.pt/wp-content/uploads/2025/11/Mike_Love_shotgun_1980x1920_l0xibr.avif
END:VEVENT
BEGIN:VEVENT
DTSTART;TZID=UTC:20260124T203000
DTEND;TZID=UTC:20260124T203000
DTSTAMP:20260422T012139
CREATED:20251114T122501Z
LAST-MODIFIED:20251114T122505Z
UID:887-1769286600-1769286600@republicadamusica.pt
SUMMARY:KIM Dracula
DESCRIPTION:No dia 24 de janeiro (sábado) de 2026\, a República da Música\, em Lisboa\, recebe pela primeira vez em Portugal o fenómeno australiano Kim Dracula.\nConhecido pela fusão explosiva de estilos que vão do metal ao trap\, do industrial ao jazz\, do post-hardcore à synthwave\, Kim Dracula quebra todas as barreiras e conquista seguidores fiéis em diferentes comunidades pelo mundo. Temas como “Make Me Famous” e “Drown” são exemplos perfeitos do seu universo criativo: uma mistura intensa de caos\, energia e melodia que promete uma experiência ao vivo única e imprevisível. \nPrepare-se para um espetáculo intenso\, visualmente marcante e musicalmente inclassificável – uma verdadeira celebração do caos criativo. \nNa primeira parte contamos com a presença dos VOWWS. O duo australiano\, atualmente sediado em Los Angeles\, descreve-se como Death-Pop: uma fusão de angústia existencial e nostalgia distorcida\, alimentada pela cultura pop\, cinema e publicidade.
URL:https://republicadamusica.pt/evento/kim-dracula/
CATEGORIES:Sala 1
ATTACH;FMTTYPE=image/jpeg:https://republicadamusica.pt/wp-content/uploads/2025/11/Ticketline_1024x768px.jpg
END:VEVENT
END:VCALENDAR